BEGIN:VCALENDAR
VERSION:2.0
PRODID:-//Sheffield Steel Roller Derby - ECPv6.15.20//NONSGML v1.0//EN
CALSCALE:GREGORIAN
METHOD:PUBLISH
X-ORIGINAL-URL:https://www.sheffieldsteelrollerderby.co.uk
X-WR-CALDESC:Events for Sheffield Steel Roller Derby
REFRESH-INTERVAL;VALUE=DURATION:PT1H
X-Robots-Tag:noindex
X-PUBLISHED-TTL:PT1H
BEGIN:VTIMEZONE
TZID:Europe/London
BEGIN:DAYLIGHT
TZOFFSETFROM:+0000
TZOFFSETTO:+0100
TZNAME:BST
DTSTART:20230326T010000
END:DAYLIGHT
BEGIN:STANDARD
TZOFFSETFROM:+0100
TZOFFSETTO:+0000
TZNAME:GMT
DTSTART:20231029T010000
END:STANDARD
BEGIN:DAYLIGHT
TZOFFSETFROM:+0000
TZOFFSETTO:+0100
TZNAME:BST
DTSTART:20240331T010000
END:DAYLIGHT
BEGIN:STANDARD
TZOFFSETFROM:+0100
TZOFFSETTO:+0000
TZNAME:GMT
DTSTART:20241027T010000
END:STANDARD
BEGIN:DAYLIGHT
TZOFFSETFROM:+0000
TZOFFSETTO:+0100
TZNAME:BST
DTSTART:20250330T010000
END:DAYLIGHT
BEGIN:STANDARD
TZOFFSETFROM:+0100
TZOFFSETTO:+0000
TZNAME:GMT
DTSTART:20251026T010000
END:STANDARD
END:VTIMEZONE
BEGIN:VEVENT
DTSTART;TZID=Europe/London:20240406T100000
DTEND;TZID=Europe/London:20240406T150000
DTSTAMP:20260420T091517
CREATED:20240118T184559Z
LAST-MODIFIED:20240328T212721Z
UID:2037-1712397600-1712415600@www.sheffieldsteelrollerderby.co.uk
SUMMARY:Sheffield Steel Roller Derby - Home Game
DESCRIPTION:Join us for our next home game at Concord International Sports Centre as we go head to head with North Wales Roller Derby and Manchester Valkyries go up against Rebellion Roller Derby. \nExpect the usual raffle\, cake stall and merch stalls as well as some extra special stalls and activities including our sign a shin fundraiser and a preloved clothing stall \nTickets will be pay as you feel with a suggested donation of £7 and we can accept payment with either cash or card on the doors. \nHope to see you there!
URL:https://www.sheffieldsteelrollerderby.co.uk/event/sheffield-steel-roller-derby-home-game/
LOCATION:Concord Sports Centre\, Shiregreen Lane\, Deepcar\, Sheffield\, S5 6AE\, United Kingdom
CATEGORIES:Home Games
ATTACH;FMTTYPE=image/jpeg:https://www.sheffieldsteelrollerderby.co.uk/wp-content/uploads/2024/01/numberrp-2-copy-scaled.jpg
END:VEVENT
END:VCALENDAR