BEGIN:VCALENDAR
VERSION:2.0
PRODID:-//Sheffield Steel Roller Derby - ECPv6.15.20//NONSGML v1.0//EN
CALSCALE:GREGORIAN
METHOD:PUBLISH
X-ORIGINAL-URL:https://www.sheffieldsteelrollerderby.co.uk
X-WR-CALDESC:Events for Sheffield Steel Roller Derby
REFRESH-INTERVAL;VALUE=DURATION:PT1H
X-Robots-Tag:noindex
X-PUBLISHED-TTL:PT1H
BEGIN:VTIMEZONE
TZID:Europe/London
BEGIN:DAYLIGHT
TZOFFSETFROM:+0000
TZOFFSETTO:+0100
TZNAME:BST
DTSTART:20250330T010000
END:DAYLIGHT
BEGIN:STANDARD
TZOFFSETFROM:+0100
TZOFFSETTO:+0000
TZNAME:GMT
DTSTART:20251026T010000
END:STANDARD
BEGIN:DAYLIGHT
TZOFFSETFROM:+0000
TZOFFSETTO:+0100
TZNAME:BST
DTSTART:20260329T010000
END:DAYLIGHT
BEGIN:STANDARD
TZOFFSETFROM:+0100
TZOFFSETTO:+0000
TZNAME:GMT
DTSTART:20261025T010000
END:STANDARD
BEGIN:DAYLIGHT
TZOFFSETFROM:+0000
TZOFFSETTO:+0100
TZNAME:BST
DTSTART:20270328T010000
END:DAYLIGHT
BEGIN:STANDARD
TZOFFSETFROM:+0100
TZOFFSETTO:+0000
TZNAME:GMT
DTSTART:20271031T010000
END:STANDARD
END:VTIMEZONE
BEGIN:VEVENT
DTSTART;TZID=Europe/London:20260606T100000
DTEND;TZID=Europe/London:20260607T160000
DTSTAMP:20260420T110033
CREATED:20260210T123313Z
LAST-MODIFIED:20260210T123313Z
UID:2682-1780740000-1780848000@www.sheffieldsteelrollerderby.co.uk
SUMMARY:Sheffield Steel Roller Derby vs Belfast vs Muster
DESCRIPTION:We’re on tour! \nJoin us in Liverpool for an action-packed weekend of 5 Nations action as we take on the whole of Ireland (well two teams from Ireland)! \nThis event is hosted by Liverpool Roller Birds so check out their socials for information on tickets
URL:https://www.sheffieldsteelrollerderby.co.uk/event/sheffield-steel-roller-derby-vs-belfast-vs-muster/
LOCATION:Liverpool
CATEGORIES:Away Games
END:VEVENT
END:VCALENDAR